BEGIN:VCALENDAR
VERSION:2.0
PRODID:-//Qubo Prints - ECPv6.15.20//NONSGML v1.0//EN
CALSCALE:GREGORIAN
METHOD:PUBLISH
X-WR-CALNAME:Qubo Prints
X-ORIGINAL-URL:https://quboprints.com
X-WR-CALDESC:Events for Qubo Prints
REFRESH-INTERVAL;VALUE=DURATION:PT1H
X-Robots-Tag:noindex
X-PUBLISHED-TTL:PT1H
BEGIN:VTIMEZONE
TZID:Asia/Manila
BEGIN:STANDARD
TZOFFSETFROM:+0800
TZOFFSETTO:+0800
TZNAME:PST
DTSTART:20250101T000000
END:STANDARD
END:VTIMEZONE
BEGIN:VEVENT
DTSTART;VALUE=DATE:20260521
DTEND;VALUE=DATE:20260524
DTSTAMP:20260424T203749
CREATED:20260424T072923Z
LAST-MODIFIED:20260424T073710Z
UID:1462-1779321600-1779580799@quboprints.com
SUMMARY:CosmiCon Expo 2026
DESCRIPTION:
URL:https://quboprints.com/event/cosmicon-expo-2026/
LOCATION:La Herencia Arts and Event Pavilion\, La Herencia Davao\, F. Torres St\, Poblacion District\, Davao City\, Davao del Sur\, 8000\, Philippines
ATTACH;FMTTYPE=image/jpeg:https://quboprints.com/wp-content/webpc-passthru.php?src=https://quboprints.com/wp-content/uploads/CosmiConExpo.jpg&amp;nocache=1
END:VEVENT
BEGIN:VEVENT
DTSTART;VALUE=DATE:20261003
DTEND;VALUE=DATE:20261005
DTSTAMP:20260424T203749
CREATED:20260424T073048Z
LAST-MODIFIED:20260424T073538Z
UID:1464-1790985600-1791158399@quboprints.com
SUMMARY:PotAween Davao
DESCRIPTION:
URL:https://quboprints.com/event/potaween-davao/
LOCATION:SMX Convention Center Davao\, 3rd Level\, SM Lanang Premier\, J.P. Laurel Ave\, Lanang\, Davao City\, Davao del Sur\, 8000\, Philippines
ATTACH;FMTTYPE=image/png:https://quboprints.com/wp-content/webpc-passthru.php?src=https://quboprints.com/wp-content/uploads/PotAWeenDavao.png&amp;nocache=1
END:VEVENT
END:VCALENDAR